<metadata xml:lang="nl"><Esri><CreaDate>20230929</CreaDate><CreaTime>10573500</CreaTime><ArcGISFormat>1.0</ArcGISFormat><SyncOnce>FALSE</SyncOnce><DataProperties><lineage><Process ToolSource="c:\program files\arcgis\pro\Resources\ArcToolbox\Toolboxes\Data Management Tools.tbx\CopyMultiple" Date="20230929" Time="105735">CopyMultiple "'p:\civ\Producten_Waterkwaliteit\MWTL\Biologie - Ecotopen zout\04_ZOUTE_ECOTOPEN\WESTERSCHELDE\2022\BRONDATA\BRONDATA_WS_22.gdb\e_bodem_WS_2022' RasterDataset;'p:\civ\Producten_Waterkwaliteit\MWTL\Biologie - Ecotopen zout\04_ZOUTE_ECOTOPEN\WESTERSCHELDE\2022\BRONDATA\BRONDATA_WS_22.gdb\e_DVD_WS_2022' RasterDataset;'p:\civ\Producten_Waterkwaliteit\MWTL\Biologie - Ecotopen zout\04_ZOUTE_ECOTOPEN\WESTERSCHELDE\2022\BRONDATA\BRONDATA_WS_22.gdb\e_GLW_WS_2020' RasterDataset;'p:\civ\Producten_Waterkwaliteit\MWTL\Biologie - Ecotopen zout\04_ZOUTE_ECOTOPEN\WESTERSCHELDE\2022\BRONDATA\BRONDATA_WS_22.gdb\e_vmax_WS_2022' RasterDataset" "p:\civ\Werkbestanden_Waterkwaliteit\MWTL\Biologie - Ecotopen\WERKMAP - Ecotopen zout\SERVICES\TMP_TBV_TIF.gdb" e_bodem_WS_2022;e_DVD_WS_2022;e_GLW_WS_2020;e_vmax_WS_2022 "e_bodem_WS_2022 RasterDataset e_bodem_WS_2022 #;e_DVD_WS_2022 RasterDataset e_DVD_WS_2022 #;e_GLW_WS_2020 RasterDataset e_GLW_WS_2020 #;e_vmax_WS_2022 RasterDataset e_vmax_WS_2022 #"</Process><Process ToolSource="d:\apps\arcgis\desktop10.6\ArcToolbox\Toolboxes\Data Management Tools.tbx\CopyRaster" Date="20231002" Time="084238">CopyRaster \\ad.rws.nl\p-dfs01\appsdata\GeoDataRuimte\inname\rasters\ecotopen_zout_raster\AANLEVER\TMP_TBV_TIF.gdb\e_vmax_WS_2022 \\ad.rws.nl\p-dfs01\appsdata\GeoDataRuimte\inname\rasters\ecotopen_zout_raster\AANLEVER\e_vmax_WS_2022.tif # # -3.402823e+38 NONE NONE # NONE NONE TIFF Transform</Process></lineage><itemProps><itemName Sync="TRUE">e_vmax_WS_2022.tif</itemName><itemLocation><linkage Sync="TRUE">file://\\ad.rws.nl\p-dfs01\appsdata\GeoDataRuimte\inname\rasters\ecotopen_zout_raster\AANLEVER\e_vmax_WS_2022.tif</linkage><protocol Sync="TRUE">Local Area Network</protocol></itemLocation><imsContentType Sync="TRUE">002</imsContentType><nativeExtBox><westBL Sync="TRUE">27370.000000</westBL><eastBL Sync="TRUE">78570.000000</eastBL><southBL Sync="TRUE">369370.000000</southBL><northBL Sync="TRUE">389210.000000</northBL><exTypeCode Sync="TRUE">1</exTypeCode></nativeExtBox></itemProps><coordRef><type Sync="TRUE">Projected</type><geogcsn Sync="TRUE">GCS_Amersfoort</geogcsn><csUnits Sync="TRUE">Linear Unit: Meter (1.000000)</csUnits><projcsn Sync="TRUE">RD_New</projcsn><peXml Sync="TRUE">&lt;ProjectedCoordinateSystem xsi:type='typens:ProjectedCoordinateSystem' xmlns:xsi='http://www.w3.org/2001/XMLSchema-instance' xmlns:xs='http://www.w3.org/2001/XMLSchema' xmlns:typens='http://www.esri.com/schemas/ArcGIS/10.6'&gt;&lt;WKT&gt;PROJCS[&amp;quot;RD_New&amp;quot;,GEOGCS[&amp;quot;GCS_Amersfoort&amp;quot;,DATUM[&amp;quot;D_Amersfoort&amp;quot;,SPHEROID[&amp;quot;Bessel_1841&amp;quot;,6377397.155,299.1528128]],PRIMEM[&amp;quot;Greenwich&amp;quot;,0.0],UNIT[&amp;quot;Degree&amp;quot;,0.0174532925199433]],PROJECTION[&amp;quot;Double_Stereographic&amp;quot;],PARAMETER[&amp;quot;False_Easting&amp;quot;,155000.0],PARAMETER[&amp;quot;False_Northing&amp;quot;,463000.0],PARAMETER[&amp;quot;Central_Meridian&amp;quot;,5.38763888888889],PARAMETER[&amp;quot;Scale_Factor&amp;quot;,0.9999079],PARAMETER[&amp;quot;Latitude_Of_Origin&amp;quot;,52.15616055555555],UNIT[&amp;quot;Meter&amp;quot;,1.0],AUTHORITY[&amp;quot;EPSG&amp;quot;,28992]]&lt;/WKT&gt;&lt;XOrigin&gt;-30515500&lt;/XOrigin&gt;&lt;YOrigin&gt;-30279500&lt;/YOrigin&gt;&lt;XYScale&gt;146716411.36275291&lt;/XYScale&gt;&lt;ZOrigin&gt;-100000&lt;/ZOrigin&gt;&lt;ZScale&gt;10000&lt;/ZScale&gt;&lt;MOrigin&gt;-100000&lt;/MOrigin&gt;&lt;MScale&gt;10000&lt;/MScale&gt;&lt;XYTolerance&gt;0.001&lt;/XYTolerance&gt;&lt;ZTolerance&gt;0.001&lt;/ZTolerance&gt;&lt;MTolerance&gt;0.001&lt;/MTolerance&gt;&lt;HighPrecision&gt;true&lt;/HighPrecision&gt;&lt;WKID&gt;28992&lt;/WKID&gt;&lt;LatestWKID&gt;28992&lt;/LatestWKID&gt;&lt;/ProjectedCoordinateSystem&gt;</peXml></coordRef><RasterProperties><General><PixelDepth Sync="TRUE">32</PixelDepth><HasColormap Sync="TRUE">FALSE</HasColormap><CompressionType Sync="TRUE">LZW</CompressionType><NumBands Sync="TRUE">1</NumBands><Format Sync="TRUE">TIFF</Format><HasPyramids Sync="TRUE">TRUE</HasPyramids><SourceType Sync="TRUE">continuous</SourceType><PixelType Sync="TRUE">floating point</PixelType><NoDataValue Sync="TRUE">-3.4028231e+38</NoDataValue></General></RasterProperties></DataProperties><SyncDate>20231002</SyncDate><SyncTime>08423800</SyncTime><ModDate>20231002</ModDate><ModTime>08423800</ModTime></Esri><dataIdInfo><envirDesc Sync="TRUE"> Version 6.2 (Build 9200) ; Esri ArcGIS 10.6.1.9328</envirDesc><dataLang><languageCode value="eng" Sync="TRUE"></languageCode><countryCode value="USA" Sync="TRUE"></countryCode></dataLang><idCitation><resTitle Sync="TRUE">e_vmax_WS_2022.tif</resTitle><presForm><PresFormCd value="005" Sync="TRUE"></PresFormCd></presForm></idCitation><spatRpType><SpatRepTypCd value="002" Sync="TRUE"></SpatRepTypCd></spatRpType><dataExt><geoEle><GeoBndBox esriExtentType="search"><exTypeCode Sync="TRUE">1</exTypeCode><westBL Sync="TRUE">3.550069</westBL><eastBL Sync="TRUE">4.291349</eastBL><northBL Sync="TRUE">51.487646</northBL><southBL Sync="TRUE">51.300087</southBL></GeoBndBox></geoEle></dataExt></dataIdInfo><mdLang><languageCode value="eng" Sync="TRUE"></languageCode><countryCode value="USA" Sync="TRUE"></countryCode></mdLang><distInfo><distFormat><formatName Sync="TRUE">Raster Dataset</formatName></distFormat></distInfo><mdHrLv><ScopeCd value="005" Sync="TRUE"></ScopeCd></mdHrLv><mdHrLvName Sync="TRUE">dataset</mdHrLvName><refSysInfo><RefSystem><refSysID><identCode code="28992" Sync="TRUE"></identCode><idCodeSpace Sync="TRUE">EPSG</idCodeSpace><idVersion Sync="TRUE">6.7(8.0.1)</idVersion></refSysID></RefSystem></refSysInfo><spatRepInfo><Georect><cellGeo><CellGeoCd Sync="TRUE" value="002"></CellGeoCd></cellGeo><numDims Sync="TRUE">2</numDims><tranParaAv Sync="TRUE">1</tranParaAv><chkPtAv Sync="TRUE">0</chkPtAv><cornerPts><pos Sync="TRUE">27370.000000 369370.000000</pos></cornerPts><cornerPts><pos Sync="TRUE">27370.000000 389210.000000</pos></cornerPts><cornerPts><pos Sync="TRUE">78570.000000 389210.000000</pos></cornerPts><cornerPts><pos Sync="TRUE">78570.000000 369370.000000</pos></cornerPts><centerPt><pos Sync="TRUE">52970.000000 379290.000000</pos></centerPt><axisDimension type="002"><dimSize Sync="TRUE">2560</dimSize><dimResol><value Sync="TRUE" uom="m">20.000000</value></dimResol></axisDimension><axisDimension type="001"><dimSize Sync="TRUE">992</dimSize><dimResol><value Sync="TRUE" uom="m">20.000000</value></dimResol></axisDimension><ptInPixel><PixOrientCd Sync="TRUE" value="001"></PixOrientCd></ptInPixel></Georect></spatRepInfo><contInfo><ImgDesc><contentTyp><ContentTypCd Sync="TRUE" value="001"></ContentTypCd></contentTyp><covDim><Band><dimDescrp Sync="TRUE">Band_1</dimDescrp><maxVal Sync="TRUE">266.000000</maxVal><minVal Sync="TRUE">0.000000</minVal><bitsPerVal Sync="TRUE">32</bitsPerVal><valUnit><UOM type="length"></UOM></valUnit></Band></covDim></ImgDesc></contInfo><mdDateSt Sync="TRUE">20231002</mdDateSt></metadata>
