0.5000000000
0.0000000000
0.0000000000
-0.5000000000
180000.2500000000
443749.7500000000
