2.0000000000
0.0000000000
0.0000000000
-2.0000000000
1.0000000000
624999.0000000000
