2.0000000000
0.0000000000
0.0000000000
-2.0000000000
20001.0000000000
393749.0000000000
