5.0000000000
0.0000000000
0.0000000000
-5.0000000000
2.4999999998
624997.5000000061
