2.0000000000
0.0000000000
0.0000000000
-2.0000000000
0.9999999998
624999.0000000063
