<PAMDataset>
  <SRS>PROJCS[&quot;RD_New&quot;,GEOGCS[&quot;GCS_Amersfoort&quot;,DATUM[&quot;Amersfoort&quot;,SPHEROID[&quot;Bessel_1841&quot;,6377397.155,299.1528128]],PRIMEM[&quot;Greenwich&quot;,0.0],UNIT[&quot;Degree&quot;,0.0174532925199433]],PROJECTION[&quot;Double_Stereographic&quot;],PARAMETER[&quot;False_Easting&quot;,155000.0],PARAMETER[&quot;False_Northing&quot;,463000.0],PARAMETER[&quot;Central_Meridian&quot;,5.38763888888889],PARAMETER[&quot;Scale_Factor&quot;,0.9999079],PARAMETER[&quot;Latitude_Of_Origin&quot;,52.15616055555555],UNIT[&quot;Meter&quot;,1.0]]</SRS>
  <GeoTransform> 1.1810002499999999e+005, 5.0000000000000003e-002, 0.0000000000000000e+000, 4.5169997499999998e+005, 0.0000000000000000e+000,-5.0000000000000003e-002</GeoTransform>
  <PAMRasterBand band="1">
    <Metadata>
      <MDI key="LAYER_TYPE">athematic</MDI>
    </Metadata>
  </PAMRasterBand>
  <PAMRasterBand band="2">
    <Metadata>
      <MDI key="LAYER_TYPE">athematic</MDI>
    </Metadata>
  </PAMRasterBand>
  <PAMRasterBand band="3">
    <Metadata>
      <MDI key="LAYER_TYPE">athematic</MDI>
    </Metadata>
  </PAMRasterBand>
</PAMDataset>
