DatasetHeader Begin
	Version	= "15.0"
	Name	= "Ecotopen_final_v3.ers"
	LastUpdated	= Wed Aug 17 11:10:48 GMT 2022
	DataFile	= "Ecotopen_final_v3.ecw"
	DataSetType	= Translated
	DataType	= Raster
	ByteOrder	= LSBFirst
	CoordinateSpace Begin
		Datum	= "EPSG:28992"
		Projection	= "EPSG:28992"
		CoordinateType	= EN
		Units	= "meters"
		Rotation	= 0:0:0.0
	CoordinateSpace End
	RasterInfo Begin
		CellType	= Unsigned8BitInteger
		CellInfo Begin
			Xdimension	= 0.12
			Ydimension	= 0.12
		CellInfo End
		NrOfLines	= 180000
		NrOfCellsPerLine	= 480000
		RegistrationCoord Begin
			Eastings	= 24000
			Northings	= 390000
		RegistrationCoord End
		NrOfBands	= 4
		BandId Begin
			Value	= "Red"
		BandId End
		BandId Begin
			Value	= "Green"
		BandId End
		BandId Begin
			Value	= "Blue"
		BandId End
		BandId Begin
			Value	= "AllOpacity"
		BandId End
		RegionInfo Begin
			Type	= Polygon
			RegionName	= "All"
			SubRegion	= { 0 0 0 180000 480000 180000 480000 0 }
		RegionInfo End
	RasterInfo End
DatasetHeader End
